BEGIN:VCALENDAR
VERSION:2.0
PRODID:-//Transnational Migrant Platform - Europe - ECPv6.14.1//NONSGML v1.0//EN
CALSCALE:GREGORIAN
METHOD:PUBLISH
X-WR-CALNAME:Transnational Migrant Platform - Europe
X-ORIGINAL-URL:https://transnationalmigrantplatform.net
X-WR-CALDESC:Events for Transnational Migrant Platform - Europe
REFRESH-INTERVAL;VALUE=DURATION:PT1H
X-Robots-Tag:noindex
X-PUBLISHED-TTL:PT1H
BEGIN:VTIMEZONE
TZID:UTC
BEGIN:STANDARD
TZOFFSETFROM:+0000
TZOFFSETTO:+0000
TZNAME:UTC
DTSTART:20230101T000000
END:STANDARD
END:VTIMEZONE
BEGIN:VEVENT
DTSTART;TZID=UTC:20230228T080000
DTEND;TZID=UTC:20230228T170000
DTSTAMP:20260417T043817
CREATED:20230223T194447Z
LAST-MODIFIED:20230223T194447Z
UID:13875-1677571200-1677603600@transnationalmigrantplatform.net
SUMMARY:Women journalist conference
DESCRIPTION:This is a test entry
URL:https://transnationalmigrantplatform.net/events/women-journalist-conference/
ATTACH;FMTTYPE=image/jpeg:https://transnationalmigrantplatform.net/wp-content/uploads/2022/04/Perspectives-on-a-Peoples-agenda-for-Philippine-Elections-2022.jpg
END:VEVENT
BEGIN:VEVENT
DTSTART;TZID=UTC:20230126T080000
DTEND;TZID=UTC:20230126T170000
DTSTAMP:20260417T043817
CREATED:20230112T210542Z
LAST-MODIFIED:20230112T210542Z
UID:13814-1674720000-1674752400@transnationalmigrantplatform.net
SUMMARY:Climate Change conference
DESCRIPTION:This is a test event entry
URL:https://transnationalmigrantplatform.net/events/climate-change-conference/
CATEGORIES:Events
ATTACH;FMTTYPE=image/jpeg:https://transnationalmigrantplatform.net/wp-content/uploads/2021/07/Building-a-New-Narrative-Cover-1-scaled.jpg
END:VEVENT
END:VCALENDAR